BEGIN:VCALENDAR
VERSION:2.0
PRODID:-//Volt Europa//Events//EN
CALSCALE:GREGORIAN
METHOD:PUBLISH
BEGIN:VEVENT
UID:mitte-werkstattgespraech-hamburg-testet-grundeinkommen-1758560400@voltd
 eutschland.org
DTSTAMP:20260425T171141Z
DTSTART;TZID=Europe/Berlin:20250922T190000
DTEND;TZID=Europe/Berlin:20250922T203000
SUMMARY:Mitte-Werkstattgespräch: Hamburg testet Grundeinkommen
DESCRIPTION:Was steckt hinter dem aktuellen Volksentscheid zum Grundeinkomm
 en und welche Folgen könnte eine Einführung konkret in Hamburg-Mitte habe
 n? Im offenen Werkstattgespräch der Volt-Fraktion Hamburg-Mitte gemeinsam 
 mit der Initiative Hamburg testet Grundeinkommen kommen Bürger:innen\, lok
 ale Akteure und Gäste wie Jan Gerber (Expedition Grundeinkommen e.V.) und 
 Volker Schenk (Hamburger Tafel Wilhelmsburg) zusammen\, um Hintergründe zu
  beleuchten\, Fragen zu diskutieren und neue Perspektiven für unseren S
LOCATION:Alstertwiete 5\, 20099 Hamburg
URL:https://voltdeutschland.org/hamburg/veranstaltungen/mitte-werkstattgesp
 raech-hamburg-testet-grundeinkommen
END:VEVENT
END:VCALENDAR
