BEGIN:VCALENDAR
VERSION:2.0
PRODID:-//Volt Europa//Events//EN
CALSCALE:GREGORIAN
METHOD:PUBLISH
BEGIN:VEVENT
UID:meetgreet-hamburg-nord-september-1757523600@voltdeutschland.org
DTSTAMP:20260424T045942Z
DTSTART;TZID=Europe/Berlin:20250910T190000
DTEND;TZID=Europe/Berlin:20250910T220000
SUMMARY:Meet&Greet Hamburg Nord September
DESCRIPTION:
LOCATION:Rotbuche\, Tannenweg 4\, 22415 Hamburg
URL:https://voltdeutschland.org/hamburg/veranstaltungen/meetgreet-hamburg-n
 ord-september
END:VEVENT
END:VCALENDAR
