BEGIN:VCALENDAR
VERSION:2.0
PRODID:-//Volt Europa//Events//EN
CALSCALE:GREGORIAN
METHOD:PUBLISH
BEGIN:VEVENT
UID:meet-your-kandis-wahlkreis-8-februar-1-1738605600@voltdeutschland.org
DTSTAMP:20260423T125108Z
DTSTART;TZID=Europe/Berlin:20250203T190000
DTEND;TZID=Europe/Berlin:20250203T210000
SUMMARY:Meet your Kandis - Wahlkreis 8
DESCRIPTION:Wen wähle ich\, wenn ich Volt wähle? Lerne die Kandidierenden
  (und andere Mitglieder) aus Eppendorf\, Winterhude und Hoheluft-Ost kennen
 ! Wir stehen Rede und Antwort – jeden Montag in der Schramme10. Stellt un
 s Eure Fragen\, teilt Eure Gedanken\, und erfahrt mehr über unsere Ideen. 
 Wir möchten mit Euch ins Gespräch kommen\, Euch zuhören und gemeinsam ü
 ber wichtige Themen sprechen. Mit spannenden Impulsen gestalten wir den Abe
 nd\, sodass er informativ und inspirierend wird. Wir freuen uns darauf\, Eu
 ch 
LOCATION:Schramme10\, Schrammsweg 10\, 20249 Hamburg
URL:https://voltdeutschland.org/hamburg/veranstaltungen/meet-your-kandis-wa
 hlkreis-8-februar-1
END:VEVENT
END:VCALENDAR
