BEGIN:VCALENDAR
VERSION:2.0
PRODID:-//Volt Europa//Events//EN
CALSCALE:GREGORIAN
METHOD:PUBLISH
BEGIN:VEVENT
UID:meet-und-greet-mitte-januar-online-1737903600@voltdeutschland.org
DTSTAMP:20260423T124713Z
DTSTART;TZID=Europe/Berlin:20250126T160000
DTEND;TZID=Europe/Berlin:20250126T180000
SUMMARY:Meet and Greet Mitte online
DESCRIPTION:Schaut herein zum  online  Meet and Greet der Volt Distriktgrup
 pe HH-Mitte! Entdeckt bei lockerem Beisammensein\, wie wir gemeinsam Politi
 k in Hamburg und Europa gestalten können. Egal ob Ihr schon Mitglied seid 
 oder einfach neugierig: Wir freuen uns auf Euren Input und Austausch. Keine
  Anmeldung nötig – wir sehen uns im Stream!
LOCATION:http://meet.google.com/hys-gpna-zjo
URL:https://voltdeutschland.org/hamburg/veranstaltungen/meet-und-greet-mitt
 e-januar-online
END:VEVENT
END:VCALENDAR
