BEGIN:VCALENDAR
VERSION:2.0
PRODID:-//Volt Europa//Events//EN
CALSCALE:GREGORIAN
METHOD:PUBLISH
BEGIN:VEVENT
UID:meet-und-greet-fraktion-mitte-april-1743611400@voltdeutschland.org
DTSTAMP:20260423T195126Z
DTSTART;TZID=Europe/Berlin:20250402T183000
DTEND;TZID=Europe/Berlin:20250402T203000
SUMMARY:Meet and Greet Fraktion Mitte April
DESCRIPTION:Kommt vorbei zum Meet and Greet der Volt Fraktion HH-Mitte! Ent
 deckt bei lockerem Beisammensein\, wie wir Politik in Hamburg Mitte gestalt
 en. Wir freuen uns auf Euren Input und Austausch. Keine Anmeldung nĂ¶tig â€
 “ wir sehen uns dort!
LOCATION:FraktionsbĂĽro Hamburg Mitte\, Alstertwiete 5\, 20099 Hamburg
URL:https://voltdeutschland.org/hamburg/veranstaltungen/meet-und-greet-frak
 tion-mitte-april
END:VEVENT
END:VCALENDAR
