BEGIN:VCALENDAR
VERSION:2.0
PRODID:-//Volt Europa//Events//EN
CALSCALE:GREGORIAN
METHOD:PUBLISH
BEGIN:VEVENT
UID:meet-greet-2026-05-26-eimsbuettel-olympia-1779771600@voltdeutschland.or
 g
DTSTAMP:20260421T104942Z
DTSTART;TZID=Europe/Berlin:20260526T070000
DTEND;TZID=Europe/Berlin:20260526T110000
SUMMARY:Meet & Greet Volt Hamburg
DESCRIPTION:Willkommen zum Meet and Greet Hamburg. Entdeckt bei lockerem Be
 isammensein\, wie wir gemeinsam Politik in Hamburg und Europa gestalten kö
 nnen. Wir freuen uns auf Euren Input und Austausch. Keine Anmeldung nötig 
 – wir sehen uns dort! Thema des Abends: Olympia\, wir diskutieren das nah
 estehende Referendum mehr zum Thema
LOCATION:Villa im Park\, Else-Rauch-Platz 1\, 20255 Hamburg
URL:https://voltdeutschland.org/hamburg/veranstaltungen/meet-greet-2026-05-
 26-eimsbuettel-olympia
END:VEVENT
END:VCALENDAR
