BEGIN:VCALENDAR
VERSION:2.0
PRODID:-//Volt Europa//Events//EN
CALSCALE:GREGORIAN
METHOD:PUBLISH
BEGIN:VEVENT
UID:meet-greet-2026-05-11-bergedorf-1778520600@voltdeutschland.org
DTSTAMP:20260423T104152Z
DTSTART;TZID=Europe/Berlin:20260511T193000
DTEND;TZID=Europe/Berlin:20260511T210000
SUMMARY:Meet & Greet Volt Hamburg
DESCRIPTION:Willkommen zum Meet and Greet Hamburg. Dieses Mal in Bergedorf.
  Entdeckt bei lockerem Beisammensein\, wie wir gemeinsam Politik in Hamburg
  und Europa gestalten können. Wir freuen uns auf Euren Input und Austausch
 . Keine Anmeldung nötig – wir sehen uns dort!
LOCATION:Bergedorf: LOLA Bar im LOLA Kulturzentrum\, Lohbrügger Landstraß
 e 8\, 21031 Hamburg
URL:https://voltdeutschland.org/hamburg/veranstaltungen/meet-greet-2026-05-
 11-bergedorf
END:VEVENT
END:VCALENDAR
