BEGIN:VCALENDAR
VERSION:2.0
PRODID:-//Volt Europa//Events//EN
CALSCALE:GREGORIAN
METHOD:PUBLISH
BEGIN:VEVENT
UID:meet-greet-2026-04-27-bergedorf-1777311000@voltdeutschland.org
DTSTAMP:20260421T104937Z
DTSTART;TZID=Europe/Berlin:20260427T193000
DTEND;TZID=Europe/Berlin:20260427T210000
SUMMARY:Meet & Greet Volt Hamburg
DESCRIPTION:Willkommen zum Meet and Greet Hamburg. Dieses Mal in Bergedorf.
  Entdeckt bei lockerem Beisammensein\, wie wir gemeinsam Politik in Hamburg
  und Europa gestalten können. Wir freuen uns auf Euren Input und Austausch
 . Keine Anmeldung nötig – wir sehen uns dort!
LOCATION:Bergedorf: LOLA Bar im LOLA Kulturzentrum\, Lohbrügger Landstraß
 e 8\, 21031 Hamburg
URL:https://voltdeutschland.org/hamburg/veranstaltungen/meet-greet-2026-04-
 27-bergedorf
END:VEVENT
END:VCALENDAR
