BEGIN:VCALENDAR
VERSION:2.0
PRODID:-//Volt Europa//Events//EN
CALSCALE:GREGORIAN
METHOD:PUBLISH
BEGIN:VEVENT
UID:meet-greet-2026-03-24-volskdorf-1774375200@voltdeutschland.org
DTSTAMP:20260424T063302Z
DTSTART;TZID=Europe/Berlin:20260324T190000
DTEND;TZID=Europe/Berlin:20260324T210000
SUMMARY:!!!fällt leider aus!!!  Meet & Greet Volt Hamburg
DESCRIPTION:Leider müssen wir das heutige Meet and Greet aus personellen G
 ründen kurzfristig ausfallen lassen. Wir hoffen\, ihr habt es rechtzeitig 
 mitbekommen - und freuen uns aufs nächste Mal.
LOCATION:Jazz Café\, Im Alten Dorfe 36\, 22359 Hamburg 📌
URL:https://voltdeutschland.org/hamburg/veranstaltungen/meet-greet-2026-03-
 24-volskdorf
END:VEVENT
END:VCALENDAR
