BEGIN:VCALENDAR
VERSION:2.0
PRODID:-//Volt Europa//Events//EN
CALSCALE:GREGORIAN
METHOD:PUBLISH
BEGIN:VEVENT
UID:meet-greet-2026-02-26-harburg-1772125200@voltdeutschland.org
DTSTAMP:20260424T063118Z
DTSTART;TZID=Europe/Berlin:20260226T180000
DTEND;TZID=Europe/Berlin:20260226T200000
SUMMARY:Meet & Greet Volt Hamburg
DESCRIPTION:Willkommen zum Meet and Greet Hamburg. Entdeckt bei lockerem Be
 isammensein\, wie wir gemeinsam Politik in Hamburg und Europa gestalten kö
 nnen. Wir freuen uns auf Euren Input und Austausch. Keine Anmeldung nötig 
 – wir sehen uns dort! Thema des Abends:  Nahverkehr Süderelbe Edition
LOCATION:Vintage Café & Bar Harburg\, Karnapp 5\, 21079 Hamburg
URL:https://voltdeutschland.org/hamburg/veranstaltungen/meet-greet-2026-02-
 26-harburg
END:VEVENT
END:VCALENDAR
