BEGIN:VCALENDAR
VERSION:2.0
PRODID:-//Volt Europa//Events//EN
CALSCALE:GREGORIAN
METHOD:PUBLISH
BEGIN:VEVENT
UID:meet-greet-2026-02-18-altona-eimsbuettel-1771437600@voltdeutschland.org
DTSTAMP:20260424T063302Z
DTSTART;TZID=Europe/Berlin:20260218T190000
DTEND;TZID=Europe/Berlin:20260218T210000
SUMMARY:Meet & Greet Volt Hamburg
DESCRIPTION:Willkommen zum Meet and Greet Hamburg. Entdeckt bei lockerem Be
 isammensein\, wie wir gemeinsam Politik in Hamburg und Europa gestalten kö
 nnen. Wir freuen uns auf Euren Input und Austausch. Keine Anmeldung nötig 
 – wir sehen uns dort! Thema des Tages: Hamburger Bildungsrevolution
LOCATION:Blaue Blume\, Harkortstraße 95\, 22765 Hamburg
URL:https://voltdeutschland.org/hamburg/veranstaltungen/meet-greet-2026-02-
 18-altona-eimsbuettel
END:VEVENT
END:VCALENDAR
