BEGIN:VCALENDAR
VERSION:2.0
PRODID:-//Volt Europa//Events//EN
CALSCALE:GREGORIAN
METHOD:PUBLISH
BEGIN:VEVENT
UID:meet-and-greet-wandsbek-2025-august-22-1755882000@voltdeutschland.org
DTSTAMP:20260422T044814Z
DTSTART;TZID=Europe/Berlin:20250822T190000
DTEND;TZID=Europe/Berlin:20250822T210000
SUMMARY:Meet and Greet Wandsbek in Bramfeld August
DESCRIPTION:Kommt vorbei zum Meet and Greet der Volt Distriktgruppe Wandsbe
 k! Entdeckt bei lockerem Beisammensein\, wie wir gemeinsam Politik in Hambu
 rg und Europa gestalten können. Egal ob Ihr schon Mitglied seid oder einfa
 ch neugierig: Wir freuen uns auf Euren Input und Austausch. Keine Anmeldung
  nötig – wir sehen uns dort!
LOCATION:Vistro Hamburg\, Bramfelder Chaussee 265\, 22177 Hamburg
URL:https://voltdeutschland.org/hamburg/veranstaltungen/meet-and-greet-wand
 sbek-2025-august-22
END:VEVENT
END:VCALENDAR
