BEGIN:VCALENDAR
VERSION:2.0
PRODID:-//Volt Europa//Events//EN
CALSCALE:GREGORIAN
METHOD:PUBLISH
BEGIN:VEVENT
UID:meet-and-greet-nord-mai-2-1748278800@voltdeutschland.org
DTSTAMP:20260422T041524Z
DTSTART;TZID=Europe/Berlin:20250526T190000
DTEND;TZID=Europe/Berlin:20250526T210000
SUMMARY:Meet and Greet Nord Mai
DESCRIPTION:Kommt vorbei zum Meet and Greet der Volt Distriktgruppe Nord! E
 ntdeckt bei lockerem Beisammensein\, wie wir gemeinsam Politik in Hamburg u
 nd Europa gestalten können. Egal ob Ihr schon Mitglied seid oder einfach n
 eugierig: Wir freuen uns auf Euren Input und Austausch. Keine Anmeldung nö
 tig – wir sehen uns dort!
LOCATION:Schramme 10\, Schrammsweg 10\, 20249 Hamburg
URL:https://voltdeutschland.org/hamburg/veranstaltungen/meet-and-greet-nord
 -mai-2
END:VEVENT
END:VCALENDAR
