BEGIN:VCALENDAR
VERSION:2.0
PRODID:-//Volt Europa//Events//EN
CALSCALE:GREGORIAN
METHOD:PUBLISH
BEGIN:VEVENT
UID:meet-and-greet-harburg-dezember-1733418000@voltdeutschland.org
DTSTAMP:20260422T131253Z
DTSTART;TZID=Europe/Berlin:20241205T180000
DTEND;TZID=Europe/Berlin:20241205T210000
SUMMARY:Ort geändert: Meet and Greet Harburg Dezember
DESCRIPTION:Nachtrag 27. November: Wir treffen uns ab nun regelmäßig im C
 afé-Oktober. Kommt vorbei zum Meet and Greet der Volt Distriktgruppe Harbu
 rg! Entdeckt bei lockerem Beisammensein\, wie wir gemeinsam Politik in Hamb
 urg und Europa gestalten können. Egal ob Ihr schon Mitglied seid oder einf
 ach neugierig: Wir freuen uns auf Euren Input und Austausch. Keine Anmeldun
 g nötig – wir sehen uns dort!
LOCATION:Café-Oktober\, Schloß Mühlendamm 23\, 21073 Hamburg
URL:https://voltdeutschland.org/hamburg/veranstaltungen/meet-and-greet-harb
 urg-dezember
END:VEVENT
END:VCALENDAR
