BEGIN:VCALENDAR
VERSION:2.0
PRODID:-//Volt Europa//Events//EN
CALSCALE:GREGORIAN
METHOD:PUBLISH
BEGIN:VEVENT
UID:meet-and-greet-altona-maerz-1742409000@voltdeutschland.org
DTSTAMP:20260425T223742Z
DTSTART;TZID=Europe/Berlin:20250319T193000
DTEND;TZID=Europe/Berlin:20250319T220000
SUMMARY:Meet and Greet Altona März
DESCRIPTION:Kommt vorbei zum Meet and Greet der Volt Distriktgruppe Altona!
  Entdeckt bei lockerem Beisammensein in der Blauen Blume\, wie wir gemeinsa
 m Politik in Hamburg und Europa gestalten können. Egal ob Ihr schon Mitgli
 ed seid oder einfach neugierig: Wir freuen uns auf Euren Input und Austausc
 h. Keine Anmeldung nötig – wir sehen uns dort!
LOCATION:In der Blauen Blume\, Harkortstraße 95\, 22765 Hamburg
URL:https://voltdeutschland.org/hamburg/veranstaltungen/meet-and-greet-alto
 na-maerz
END:VEVENT
END:VCALENDAR
