BEGIN:VCALENDAR
VERSION:2.0
PRODID:-//Volt Europa//Events//EN
CALSCALE:GREGORIAN
METHOD:PUBLISH
BEGIN:VEVENT
UID:meet-and-greet-altona-dezember-1734372000@voltdeutschland.org
DTSTAMP:20260423T105422Z
DTSTART;TZID=Europe/Berlin:20241216T190000
DTEND;TZID=Europe/Berlin:20241216T210000
SUMMARY:Meet and Greet Altona Dezember
DESCRIPTION:Kommt vorbei zum Meet and Greet der Volt Distriktgruppe Altona!
  Entdeckt bei lockerem Beisammensein im Café Reisebar\, wie wir gemeinsam 
 Politik in Hamburg und Europa gestalten können. Egal ob Ihr schon Mitglied
  seid oder einfach neugierig: Wir freuen uns auf Euren Input und Austausch.
  Keine Anmeldung nötig – wir sehen uns dort!
LOCATION:Café Reisebar\, Ottenser Hauptstraße 30
URL:https://voltdeutschland.org/hamburg/veranstaltungen/meet-and-greet-alto
 na-dezember
END:VEVENT
END:VCALENDAR
