BEGIN:VCALENDAR
VERSION:2.0
PRODID:-//Volt Europa//Events//EN
CALSCALE:GREGORIAN
METHOD:PUBLISH
BEGIN:VEVENT
UID:meet-and-greet-2026-05-04-wandsbek-1777912200@voltdeutschland.org
DTSTAMP:20260421T105006Z
DTSTART;TZID=Europe/Berlin:20260504T183000
DTEND;TZID=Europe/Berlin:20260504T203000
SUMMARY:Meet and Greet Volt Hamburg
DESCRIPTION:Kommt vorbei zum Meet and Greet der Volt Distriktgruppe Wandsbe
 k! Entdeckt bei lockerem Beisammensein\, wie wir gemeinsam Politik in Hambu
 rg und Europa gestalten können. Egal ob Ihr schon Mitglied seid oder einfa
 ch neugierig: Wir freuen uns auf Euren Input und Austausch. Keine Anmeldung
  nötig – wir sehen uns dort! Thema des Abends: Sport in Wandsbek - mehr 
 als Olympia
LOCATION:tbd\, Wandsbek
URL:https://voltdeutschland.org/hamburg/veranstaltungen/meet-and-greet-2026
 -05-04-wandsbek
END:VEVENT
END:VCALENDAR
