BEGIN:VCALENDAR
VERSION:2.0
PRODID:-//Volt Europa//Events//EN
CALSCALE:GREGORIAN
METHOD:PUBLISH
BEGIN:VEVENT
UID:eimsbuettel-werkstattgespraech-hamburg-testet-grundeinkommen-1758646800
 @voltdeutschland.org
DTSTAMP:20260425T171135Z
DTSTART;TZID=Europe/Berlin:20250923T190000
DTEND;TZID=Europe/Berlin:20250923T203000
SUMMARY:Eimsbüttel-Werkstattgespräch: Hamburg testet Grundeinkommen
DESCRIPTION:Was steckt hinter dem aktuellen Volksentscheid zum Grundeinkomm
 en und welche Folgen könnte eine Einführung konkret in Hamburg-Eimsbütte
 l haben? Im offenen Werkstattgespräch der Volt-Fraktion Hamburg-Eimsbütte
 l gemeinsam mit der Initiative Hamburg testet Grundeinkommen kommen Bürger
 :innen\, lokale Akteure und Gäste wie Jan Gerber (Expedition Grundeinkomme
 n e.V.) zusammen\, um Hintergründe zu beleuchten\, Fragen zu diskutieren u
 nd neue Perspektiven für unseren Stadtteil zu entwickeln. Wir wollen geme
LOCATION:Fröbelstraße 2\, 20146 Hamburg
URL:https://voltdeutschland.org/hamburg/veranstaltungen/eimsbuettel-werksta
 ttgespraech-hamburg-testet-grundeinkommen
END:VEVENT
END:VCALENDAR
