BEGIN:VCALENDAR
VERSION:2.0
PRODID:-//Volt Europa//Events//EN
CALSCALE:GREGORIAN
METHOD:PUBLISH
BEGIN:VEVENT
UID:csd-hamburg-2025-1754037000@voltdeutschland.org
DTSTAMP:20260424T175015Z
DTSTART;TZID=Europe/Berlin:20250801T103000
DTEND;TZID=Europe/Berlin:20250803T200000
SUMMARY:CSD Hamburg 2025
DESCRIPTION:Wir sind queer. Wir sind europäisch. Wir sind Volt. Wir stehen
  für eine Gesellschaft\, in der alle Menschen sichtbar\, sicher und gleich
 berechtigt leben und lieben können – unabhängig von Identität\, Sexual
 ität oder Geschlechtsausdruck. Deshalb sind wir auch dieses Jahr wieder be
 i der Hamburg Pride dabei. Das diesjährige Motto des CSD ist: „Wir sind 
 hier\, um zu bleiben. Queere Menschen schützen.“ Und ja – auch wir sin
 d hier\, um zu bleiben. Viele von uns bei Volt sind selbst queer\, andere s
 ind solid
LOCATION:Volt Pavilion\, Ballindamm 33-34 20095 Hamburg
URL:https://voltdeutschland.org/hamburg/veranstaltungen/csd-hamburg-2025
END:VEVENT
END:VCALENDAR
