BEGIN:VCALENDAR
VERSION:2.0
PRODID:-//Volt Europa//Events//EN
CALSCALE:GREGORIAN
METHOD:PUBLISH
BEGIN:VEVENT
UID:business-lunch-2026-05-07-1778148300@voltdeutschland.org
DTSTAMP:20260425T175427Z
DTSTART;TZID=Europe/Berlin:20260507T120500
DTEND;TZID=Europe/Berlin:20260507T125000
SUMMARY:Business Lunch
DESCRIPTION:Politisches Speed-Dating in der Mittagspause! 💜 Finde dein p
 olitisches Match und diskutiere mit uns in gemütlicher Runde: Wie kann der
  europäische Gedanke unsere Politik positiv verändern? Du hast jede Menge
  Ideen dazu? Dann komm vorbei! Ganz ohne Anmeldung – einfach joinen und m
 itmischen.
LOCATION:Poggenmühle\, 3 Hamburg
URL:https://voltdeutschland.org/hamburg/veranstaltungen/business-lunch-2026
 -05-07
END:VEVENT
END:VCALENDAR
