BEGIN:VCALENDAR
VERSION:2.0
PRODID:-//Volt Europa//Events//EN
CALSCALE:GREGORIAN
METHOD:PUBLISH
BEGIN:VEVENT
UID:walk-talk-fuer-frauen-2025-september-13-1757768400@voltdeutschland.org
DTSTAMP:20260425T134958Z
DTSTART;TZID=Europe/Berlin:20250913T150000
DTEND;TZID=Europe/Berlin:20250913T180000
SUMMARY:Frauen Walk & Talk mit Kids
DESCRIPTION:Gemeinsam wandern\, vernetzen und sich gegenseitig inspirieren 
  Liebe Frauen\,  habt ihr Lust auf einen entspannten Spaziergang\, inspirie
 rende Gespräche und die Möglichkeit\, andere engagierte Frauen kennenzule
 rnen? Dann seid dabei beim Volt Frauen Walk & Talk!  Die Besonderheit hier\
 ,  Frauen mit Kindern sind HerzlichWillkommen . Ihr müsst keine Betreuung 
 für eure Kinder finden\, sondern diese sind selbstverständlich ebenso ein
 geladen. Die ausgesuchte Strecke ist einfach zu laufen und durch den Fran
LOCATION:Straßenbahnhaltestelle Oberschweinstiege
URL:https://voltdeutschland.org/frankfurt/veranstaltungen/walk-talk-fuer-fr
 auen-2025-september-13
END:VEVENT
END:VCALENDAR
