BEGIN:VCALENDAR
VERSION:2.0
PRODID:-//Volt Europa//Events//EN
CALSCALE:GREGORIAN
METHOD:PUBLISH
BEGIN:VEVENT
UID:volt-frankfurt-csd-2025-infostand-parade-1752840000@voltdeutschland.org
DTSTAMP:20260424T114456Z
DTSTART;TZID=Europe/Berlin:20250718T140000
DTEND;TZID=Europe/Berlin:20250720T220000
SUMMARY:Volt Frankfurt auf dem CSD Frankfurt 2025: "NIE WIEDER STILL â€“ FR
 ANKFURT IST #LAUT"!
DESCRIPTION:NIE WIEDER STILL â€“ FRANKFURT IST #LAUT Volt Frankfurt wird be
 i Demonstration dieses Jahr dabei sein und ihr findet uns auch auf der Info
 straÃŸe von Freitag bis Sonntag Abend.  Infos zur Demonstration\, InfostraÃ
 Ÿe und StraÃŸenfest findet ihr auf der  Seite des CSD Frankfurt e.V.
LOCATION:Mainkai
URL:https://voltdeutschland.org/frankfurt/veranstaltungen/volt-frankfurt-cs
 d-2025-infostand-parade
END:VEVENT
END:VCALENDAR
