BEGIN:VCALENDAR
VERSION:2.0
PRODID:-//Volt Europa//Events//EN
CALSCALE:GREGORIAN
METHOD:PUBLISH
BEGIN:VEVENT
UID:meet-greet-volt-frankfurt-26-04-16-1-1778313600@voltdeutschland.org
DTSTAMP:20260422T040635Z
DTSTART;TZID=Europe/Berlin:20260509T100000
DTEND;TZID=Europe/Berlin:20260509T120000
SUMMARY:Meet & Greet - Picknick am Europatag
DESCRIPTION:🌿🇪🇺 Europa‑Tag – gemeinsam picknicken & zum Römer
  gehen 🇪🇺🌿 Wir laden euch herzlich ein\, den Europa‑Tag gemeinsa
 m zu beginnen! Ab  10:00 Uhr  treffen wir uns zu einem entspannten  Picknic
 k in der Nähe \, um zusammen Zeit zu verbringen\, ins Gespräch zu kommen 
 und gut in den Tag zu starten 🧺☀️. Anschließend machen wir uns geme
 insam auf den Weg zum  Römer \, um ab  12:00 Uhr  am von der Stadt ausgeri
 chteten  Europa‑Tag  teilzunehmen 🇪🇺🏛️. Kommt vorbei – ob nu
 r zum Picknick\, nur zum Europa‑Tag oder am
LOCATION:TBD
URL:https://voltdeutschland.org/frankfurt/veranstaltungen/meet-greet-volt-f
 rankfurt-26-04-16-1
END:VEVENT
END:VCALENDAR
