BEGIN:VCALENDAR
VERSION:2.0
PRODID:-//Volt Europa//Events//EN
CALSCALE:GREGORIAN
METHOD:PUBLISH
BEGIN:VEVENT
UID:meet-greet-frauen-volt-frankfurt-2025-februar-9-1739109600@voltdeutschl
 and.org
DTSTAMP:20260423T195250Z
DTSTART;TZID=Europe/Berlin:20250209T150000
DTEND;TZID=Europe/Berlin:20250209T173000
SUMMARY:Meet & Greet - Frauen*
DESCRIPTION:Du willst uns und unsere aktiven Frauen* kennenlernen? Komm vor
 bei! Du hast Lust uns in Frankfurt kennenzulernen?   Du interessierst dich 
 wer wir sind und was wir machen? Du möchtest wissen\, wie der Einstieg in 
 politisches Engagement?  Du möchtest wissen\, wie du dich für Europa enga
 gieren kannst? Volt Frankfurt - Frauen*-Spezial Lerne ein paar Volta aus de
 m lokalen Team in Frankfurt kennen\, erfahre mehr über unsere Arbeit und d
 en Einstieg in politisches Engagement. Hierzu tauschen wir uns mit di
LOCATION:Stattcafé\, Grempstraße 21\, 60486 Frankfurt am Main
URL:https://voltdeutschland.org/frankfurt/veranstaltungen/meet-greet-frauen
 -volt-frankfurt-2025-februar-9
END:VEVENT
END:VCALENDAR
