BEGIN:VCALENDAR
VERSION:2.0
PRODID:-//Volt Europa//Events//EN
CALSCALE:GREGORIAN
METHOD:PUBLISH
BEGIN:VEVENT
UID:infostand-bundestagswahl-roedelheim-2025-februar-19-1739970000@voltdeut
 schland.org
DTSTAMP:20260423T044600Z
DTSTART;TZID=Europe/Berlin:20250219T140000
DTEND;TZID=Europe/Berlin:20250219T180000
SUMMARY:Infostand: Rödelheim
DESCRIPTION:Du willst uns vor der Bundestagswahl kennenlernen? DAS ist dein
 e Chance! Du hast Lust eine richtige paneuropäische Partei und Bewegung ke
 nnenzulernen?   Du interessierst dich für unsere  Kandidierenden ? Du hast
  schon mal von Volt gehört und willst wissen\, wer wir eigentlich sind? 
 ⁠ Du möchtest wissen\, wie du dich für Frankfurt\, Hessen\, Deutschla
 nd und Europa engagieren kannst? Komm gerne im Nordwesten dazu\, informiere
  dich und schließ dich uns an. Volt Frankfurt - Nordwesten Volt Frankfurt 
 Nor
LOCATION:Baruch-Baschwitz-Platz
URL:https://voltdeutschland.org/frankfurt/veranstaltungen/infostand-bundest
 agswahl-roedelheim-2025-februar-19
END:VEVENT
END:VCALENDAR
