BEGIN:VCALENDAR
VERSION:2.0
PRODID:-//Volt Europa//Events//EN
CALSCALE:GREGORIAN
METHOD:PUBLISH
BEGIN:VEVENT
UID:infostand-bockenheim-26-03-12-1773320400@voltdeutschland.org
DTSTAMP:20260425T024133Z
DTSTART;TZID=Europe/Berlin:20260312T140000
DTEND;TZID=Europe/Berlin:20260312T170000
SUMMARY:Infostand in Bockenheim
DESCRIPTION:Du willst uns vor der Kommunalwahl im März 2026 nochmal kennen
 lernen? DAS ist deine Chance! Du hast Lust eine richtige paneuropäische Pa
 rtei und Bewegung kennenzulernen?   Du interessierst dich für unser Wahlpr
 ogramm zu Kummunalwahl? Du hast schon mal von Volt gehört und willst wisse
 n\, wer wir eigentlich sind? 💜⁠ Du möchtest wissen\, wie du dich für
  Frankfurt engagieren kannst? Komm gerne in der City dazu\, informiere dich
  und schließ dich uns an.
LOCATION:Bockenheimer Warte\, 60325\, Frankfurt am Main
URL:https://voltdeutschland.org/frankfurt/veranstaltungen/infostand-bockenh
 eim-26-03-12
END:VEVENT
END:VCALENDAR
