BEGIN:VCALENDAR
VERSION:2.0
PRODID:-//Volt Europa//Events//EN
CALSCALE:GREGORIAN
METHOD:PUBLISH
BEGIN:VEVENT
UID:meet-greet-essen-2026-05-08-1778259600@voltdeutschland.org
DTSTAMP:20260421T154329Z
DTSTART;TZID=Europe/Berlin:20260508T190000
DTEND;TZID=Europe/Berlin:20260508T220000
SUMMARY:Meet & Greet - Essen
DESCRIPTION:Volt Meet & Greet in Essen – Offenes Treffen zum Kennenlernen
  Ein  Volt Meet & Greet in Essen  ist ein offenes Treffen für alle\, die d
 ie politische Bewegung  Volt  vor Ort kennenlernen möchten. In lockerer At
 mosphäre – ähnlich einem Stammtisch – kommen  Interessierte\, Unterst
 ützerinnen und Mitglieder  zusammen\, um sich auszutauschen und neue Mensc
 hen kennenzulernen. Stelle deine Fragen zu  Volt\, europäischer Politik un
 d lokalen Themen in Essen \, diskutiere aktuelle Entwicklungen oder erfahre
  meh
LOCATION:Jetzt & Hier\, Lüneburger Straße 40\, 45145 Essen
URL:https://voltdeutschland.org/essen/veranstaltungen/meet-greet-essen-2026
 -05-08
END:VEVENT
END:VCALENDAR
