BEGIN:VCALENDAR
VERSION:2.0
PRODID:-//Volt Europa//Events//EN
CALSCALE:GREGORIAN
METHOD:PUBLISH
BEGIN:VEVENT
UID:meetgreet-duesseldorf-265-1778086800@voltdeutschland.org
DTSTAMP:20260421T102507Z
DTSTART;TZID=Europe/Berlin:20260506T190000
DTEND;TZID=Europe/Berlin:20260506T210000
SUMMARY:Meet & Greet - Düsseldorf
DESCRIPTION:Möchtest du politisch aktiv werden? Bist du überzeugt\, dass 
 wir mehr Europa brauchen? Dann komm und lerne uns kennen! Europa steht vor 
 großen Herausforderungen - ob Klima\, Migration\, Forschung oder wirtschaf
 tliche Stabilität: Nur gemeinsam können wir tragfähige Lösungen finden.
  Dafür braucht es Menschen wie dich - die anpacken\, mitdenken und Veränd
 erungen vorantreiben wollen. Jetzt ist der perfekte Zeitpunkt\, aktiv zu we
 rden. Werde Teil unserer Bewegung! Wir brauchen DICH im Team Düsseldorf\, 
 ger
LOCATION:Ratinger Str. 43\, 40213\, Düsseldorf
URL:https://voltdeutschland.org/duesseldorf/veranstaltungen/meetgreet-duess
 eldorf-265
END:VEVENT
END:VCALENDAR
