BEGIN:VCALENDAR
VERSION:2.0
PRODID:-//Volt Europa//Events//EN
CALSCALE:GREGORIAN
METHOD:PUBLISH
BEGIN:VEVENT
UID:volt-wandertag-26-04-2026-1777194000@voltdeutschland.org
DTSTAMP:20260422T150153Z
DTSTART;TZID=Europe/Berlin:20260426T110000
DTEND;TZID=Europe/Berlin:20260426T150000
SUMMARY:Volt Wandertag 26.04.2026
DESCRIPTION:Geht mit uns in der Natur spazieren und lernt uns persönlich k
 ennen! Die Runde geht durch die Dresdner Heide\, ist für 2h ausgelegt und 
 führt durch weitgehend flaches Gelände.
LOCATION:Haltestelle Fischhausstraße\, Dresden
URL:https://voltdeutschland.org/dresden/veranstaltungen/volt-wandertag-26-0
 4-2026
END:VEVENT
END:VCALENDAR
