BEGIN:VCALENDAR
VERSION:2.0
PRODID:-//Volt Europa//Events//EN
CALSCALE:GREGORIAN
METHOD:PUBLISH
BEGIN:VEVENT
UID:unterschriften-2024-12-13-1734098400@voltdeutschland.org
DTSTAMP:20260424T115211Z
DTSTART;TZID=Europe/Berlin:20241213T150000
DTEND;TZID=Europe/Berlin:20241213T190000
SUMMARY:Wir sammeln Unterschriften!
DESCRIPTION:Für die Zulassung zur Bundestagswahl.
LOCATION:Kulturpalast\, Schloßstraße 2\, 01067 Dresden
URL:https://voltdeutschland.org/dresden/veranstaltungen/unterschriften-2024
 -12-13
END:VEVENT
END:VCALENDAR
