BEGIN:VCALENDAR
VERSION:2.0
PRODID:-//Volt Europa//Events//EN
CALSCALE:GREGORIAN
METHOD:PUBLISH
BEGIN:VEVENT
UID:unterschriften-2024-12-08-1733652000@voltdeutschland.org
DTSTAMP:20260424T114233Z
DTSTART;TZID=Europe/Berlin:20241208T110000
DTEND;TZID=Europe/Berlin:20241208T140000
SUMMARY:Wir sammeln Unterschriften!
DESCRIPTION:Für die Zulassung zur Bundestagswahl.
LOCATION:Albertplatz\, Dresden
URL:https://voltdeutschland.org/dresden/veranstaltungen/unterschriften-2024
 -12-08
END:VEVENT
END:VCALENDAR
