BEGIN:VCALENDAR
VERSION:2.0
PRODID:-//Volt Europa//Events//EN
CALSCALE:GREGORIAN
METHOD:PUBLISH
BEGIN:VEVENT
UID:32-csd-dresden-2025-1748527200@voltdeutschland.org
DTSTAMP:20260424T114813Z
DTSTART;TZID=Europe/Berlin:20250529T160000
DTEND;TZID=Europe/Berlin:20250531T230000
SUMMARY:32. CSD Dresden 2025
DESCRIPTION:
LOCATION:Altmarkt Dresden
URL:https://voltdeutschland.org/dresden/veranstaltungen/32-csd-dresden-2025
END:VEVENT
END:VCALENDAR
