BEGIN:VCALENDAR
VERSION:2.0
PRODID:-//Volt Europa//Events//EN
CALSCALE:GREGORIAN
METHOD:PUBLISH
BEGIN:VEVENT
UID:wahlprogramm-online-1739559600@voltdeutschland.org
DTSTAMP:20260425T133112Z
DTSTART;TZID=Europe/Berlin:20250214T200000
DTEND;TZID=Europe/Berlin:20250214T213000
SUMMARY:Wahlprogramm ONLINE
DESCRIPTION:Wir bieten euch ein  interaktives Wahlprogramm-Special  zum Val
 entinstag! Statt Rosen gibt’s frische Ideen für Deutschland – bringt F
 ragen und Freunde mit und diskutiert mit uns. Unsere Direktkandidierenden e
 rklären dir unser Wahlprogramm. 🔹  Ana Lena  zeigt\, wie wir  soziale  
 Themen gerechter und zukunftsfähiger gestalten können. 🔹  Holger  erkl
 ärt\, wie wir  Bildung und Digitalisierung  modernisieren und deinen Allta
 g verbessern wollen. 🔹  Berit  stellt Lösungen vor\, wie wir  Wirtschaf
 t  nachha
LOCATION:Online
URL:https://voltdeutschland.org/hessen/veranstaltungen/wahlprogramm-online
END:VEVENT
END:VCALENDAR
