BEGIN:VCALENDAR
VERSION:2.0
PRODID:-//Volt Europa//Events//EN
CALSCALE:GREGORIAN
METHOD:PUBLISH
BEGIN:VEVENT
UID:podiumsdiskussion-22-02-2026-1771768800@voltdeutschland.org
DTSTAMP:20260424T144843Z
DTSTART;TZID=Europe/Berlin:20260222T150000
DTEND;TZID=Europe/Berlin:20260222T173000
SUMMARY:Podiumsdiskussion zum Thema Sozialverträgliche Wärmewende in Darm
 stadt
DESCRIPTION:Wie kann die Wärmewende in Darmstadt sozialverträglich gestal
 tet werden? Frederik Jobst  und die  faire Wärme Darmstadt  laden ein\, ü
 ber diese Frage zu diskutieren! 💌 Zur besseren Planung freuen wir uns ü
 ber eine Anmeldung per Mail an – aber spontane Gäste sind auch herzlich 
 willkommen!
LOCATION:Evangelische Hochschule Darmstadt - Zweifalltorweg 12 - Aula Walte
 r Ratgeber Haus 1.OG
URL:https://voltdeutschland.org/darmstadt/veranstaltungen/podiumsdiskussion
 -22-02-2026
END:VEVENT
END:VCALENDAR
