BEGIN:VCALENDAR
VERSION:2.0
PRODID:-//Volt Europa//Events//EN
CALSCALE:GREGORIAN
METHOD:PUBLISH
BEGIN:VEVENT
UID:meet-and-greet-ladida-2025-01-19-1-1770744600@voltdeutschland.org
DTSTAMP:20260423T125614Z
DTSTART;TZID=Europe/Berlin:20260210T183000
DTEND;TZID=Europe/Berlin:20260210T210000
SUMMARY:Bildung & Digitalisierung in Darmstadt und dem Landkreis
DESCRIPTION:Bildung neu denken - digital\, gerecht\, regional Am  10. Febru
 ar 2026  laden wir herzlich zu einem  Podiumsdiskussion mit Holger Klötzne
 r  ein. Holger Klötzner ist  Dezernent für Bildung und Digitalisierung de
 r Wissenschaftsstadt Darmstadt . Die Themen Bildungsgerechtigkeit\, digital
 e Schulen und moderne Verwaltungsstrukturen betreffen nicht nur die Stadt D
 armstadt\, sondern sind  eng mit den Herausforderungen und Chancen des Land
 kreises Darmstadt-Dieburg verknüpft . Gemeinsam wollen wir darüber sp
LOCATION:Linie 9\, Wilhelm-Leuschner-Straße 58\, 64347 Griesheim
URL:https://voltdeutschland.org/darmstadt/veranstaltungen/meet-and-greet-la
 dida-2025-01-19-1
END:VEVENT
END:VCALENDAR
