BEGIN:VCALENDAR
VERSION:2.0
PRODID:-//Volt Europa//Events//EN
CALSCALE:GREGORIAN
METHOD:PUBLISH
BEGIN:VEVENT
UID:frauen-brunch-im-cafe-lotte-darmstadt-1762686000@voltdeutschland.org
DTSTAMP:20260424T002235Z
DTSTART;TZID=Europe/Berlin:20251109T120000
DTEND;TZID=Europe/Berlin:20251109T140000
SUMMARY:Frauen Brunch im Café Lotte
DESCRIPTION:Lasst uns in entspannter Atmosphäre über feministische Politi
 k\, gesellschaftliche Herausforderungen und unsere Vision für eine gerecht
 ere Zukunft sprechen. Gemeinsam gestalten wir Veränderung! Seid dabei – 
 wir freuen uns auf den Austausch mit Euch! Unsere feministischen Ziele bei 
 Volt:  Volt setzt sich für  feministische Politik  und  Geschlechtergerech
 tigkeit  ein. Wir verfolgen einen klaren pro-feministischen Ansatz\, der si
 ch in verschiedenen politischen Forderungen widerspiegelt: 🔹  Gleichste
LOCATION:Café Lotte\, Soderstr. 116 · 64287 Darmstadt
URL:https://voltdeutschland.org/darmstadt/veranstaltungen/frauen-brunch-im-
 cafe-lotte-darmstadt
END:VEVENT
END:VCALENDAR
