BEGIN:VCALENDAR
VERSION:2.0
PRODID:-//Volt Europa//Events//EN
CALSCALE:GREGORIAN
METHOD:PUBLISH
BEGIN:VEVENT
UID:csd-darmstadt-2025-1755338400@voltdeutschland.org
DTSTAMP:20260423T124509Z
DTSTART;TZID=Europe/Berlin:20250816T120000
DTEND;TZID=Europe/Berlin:20250816T190000
SUMMARY:🏳️‍🌈Volt auf dem CSD Darmstadt 2025: „Nie wieder still 
 – ich l(i)eb’\, wie ich will!“🏳️‍🌈
DESCRIPTION:„Nie wieder still – ich l(i)eb’\, wie ich will!“ 🗣 K
 omm vorbei! Volt ist Teil der Demonstration und hat einen Infostand auf dem
  CSD in Darmstadt 💜 Du findest uns von 12-14 Uhr auf der Demo 📢 und v
 on 14-19 Uhr an unserem Volt-Infostand💡auf dem Karolinenplatz in Darmsta
 dt. Weitere Infos zum CSD in Darmstadt findest du auf der  Infoseite zur Ve
 ranstaltung  von vielbunt e.V.
LOCATION:Karolinenplatz\, Darmstadt
URL:https://voltdeutschland.org/darmstadt/veranstaltungen/csd-darmstadt-202
 5
END:VEVENT
END:VCALENDAR
