BEGIN:VCALENDAR
VERSION:2.0
PRODID:-//Volt Europa//Events//EN
CALSCALE:GREGORIAN
METHOD:PUBLISH
BEGIN:VEVENT
UID:wahlinfostand-marktplatz-plochingen-1772271000@voltdeutschland.org
DTSTAMP:20260425T221114Z
DTSTART;TZID=Europe/Berlin:20260228T103000
DTEND;TZID=Europe/Berlin:20260228T123000
SUMMARY:Infostand in Plochingen
DESCRIPTION:Du willst unseren Direktkandidaten für den Wahlkreis 8 in Ploc
 hingen kennenlernen oder dich allgemein über Volt und die Landtagswahl inf
 ormieren? Dann komm bei uns am Infostand vorbei - wir freuen uns auf Dich!
LOCATION:73207 Plochingen\, Marktplatz
URL:https://voltdeutschland.org/bw/veranstaltungen/wahlinfostand-marktplatz
 -plochingen
END:VEVENT
END:VCALENDAR
