BEGIN:VCALENDAR
VERSION:2.0
PRODID:-//Volt Europa//Events//EN
CALSCALE:GREGORIAN
METHOD:PUBLISH
BEGIN:VEVENT
UID:speed-dating-mit-den-kandidierenden-zur-ob-wahl-boeblingen-1768415400@v
 oltdeutschland.org
DTSTAMP:20260423T124713Z
DTSTART;TZID=Europe/Berlin:20260114T193000
DTEND;TZID=Europe/Berlin:20260114T203000
SUMMARY:Speed-Dating mit den Kandidierenden zur OB-Wahl Böblingen
DESCRIPTION:Am  14.01.2026 ab 19:30 Uhr im O’Donovan’s Irish Pub\, Bre
 ite Gasse 5\, 71032 Böblingen\,  möchten wir Sie zu unserem Speed-Dating 
 mit den OB-Kandidierenden einladen Geplant sind Slots von 20 Minuten für j
 eden Kandidierenden. 5 Minuten für die eigene Vorstellung und 15 Minuten f
 ür Fragen der Bürgerinitiative und des Publikums.
LOCATION:O´Donovans Irish Pub\, Böblingen\, Breite Gasse 5
URL:https://voltdeutschland.org/bw/veranstaltungen/speed-dating-mit-den-kan
 didierenden-zur-ob-wahl-boeblingen
END:VEVENT
END:VCALENDAR
