BEGIN:VCALENDAR
VERSION:2.0
PRODID:-//Volt Europa//Events//EN
CALSCALE:GREGORIAN
METHOD:PUBLISH
BEGIN:VEVENT
UID:rems-murr-treffen-1776873600@voltdeutschland.org
DTSTAMP:20260421T101134Z
DTSTART;TZID=Europe/Berlin:20260422T180000
DTEND;TZID=Europe/Berlin:20260422T210000
SUMMARY:Rems-Murr - Offenes Treffen
DESCRIPTION:Herzlich willkommen bei Volt Rems-Murr! Wir befinden uns in ein
 em Drei-Jahres-Zeitfenster zwischen den Wahlen. Das wird unser kreativer Fr
 eiraum\, unsere Gelegenheit politisch aktiv zu werden. Denn dafür muss man
  nicht in der Regierung sitzen. Ganz im Gegenteil\, jetzt können wir unser
 e Herzensthemen rauspicken und loslegen. Was kannst du gut - Fotografieren\
 , Schreiben\, Leute ansprechen\, Recherchieren? Was wollen wir angehen - St
 rukturen schaffen\, Einzelprojekte im Rems-Murr-Kreis kritisch begleit
LOCATION:Restaurant Merlin\, Eberhardstraße 2\, 71522 Backnang
URL:https://voltdeutschland.org/bw/veranstaltungen/rems-murr-treffen
END:VEVENT
END:VCALENDAR
