BEGIN:VCALENDAR
VERSION:2.0
PRODID:-//Volt Europa//Events//EN
CALSCALE:GREGORIAN
METHOD:PUBLISH
BEGIN:VEVENT
UID:plaktatierung-singen-2026-01-24-1769202000@voltdeutschland.org
DTSTAMP:20260423T125114Z
DTSTART;TZID=Europe/Berlin:20260123T220000
DTEND;TZID=Europe/Berlin:20260124T020000
SUMMARY:Plakatierstart Singen/Radolfzell
DESCRIPTION:Wir färben Radolfzell und Singen Lila. Das City-Team aus Konst
 anz freut sich auf Dich!
LOCATION:Singen
URL:https://voltdeutschland.org/bw/veranstaltungen/plaktatierung-singen-202
 6-01-24
END:VEVENT
END:VCALENDAR
