BEGIN:VCALENDAR
VERSION:2.0
PRODID:-//Volt Europa//Events//EN
CALSCALE:GREGORIAN
METHOD:PUBLISH
BEGIN:VEVENT
UID:plakatierstart-rhein-neckar-kreis-1769209200@voltdeutschland.org
DTSTAMP:20260423T125651Z
DTSTART;TZID=Europe/Berlin:20260124T000000
DTEND;TZID=Europe/Berlin:20260125T235900
SUMMARY:Plakatierstart Rhein-Neckar-Kreis
DESCRIPTION:Ab diesem Wochenende dürfen wir Rund um Heidelberg in den meis
 ten Gemeinden des Rhein-Neckar-Kreises plakatieren. Dafür benötigen wir n
 och Unterstützung! Melde dich bei uns.
LOCATION:An vielen Orten im Rhein-Neckar-Kreis
URL:https://voltdeutschland.org/bw/veranstaltungen/plakatierstart-rhein-nec
 kar-kreis
END:VEVENT
END:VCALENDAR
