BEGIN:VCALENDAR
VERSION:2.0
PRODID:-//Volt Europa//Events//EN
CALSCALE:GREGORIAN
METHOD:PUBLISH
BEGIN:VEVENT
UID:online-meet-greet-2026-1-27-1769533200@voltdeutschland.org
DTSTAMP:20260423T194942Z
DTSTART;TZID=Europe/Berlin:20260127T180000
DTEND;TZID=Europe/Berlin:20260127T190000
SUMMARY:Online Meet & Greet Baden-WÃ¼rttemberg
DESCRIPTION:Du bist neugierig\, wie es bei Volt Baden-WÃ¼rttemberg lÃ¤uft\,
  wie der Alltag eines Parteimitglieds aussieht oder wie du im Wahlkampf unt
 erstÃ¼tzen kannst? Dann komm zu unserem Meet & Greet und lerne uns kennen ð
 Ÿ’œ (immer am letzten Dienstag im Monat um 18 Uhr)
LOCATION:online
URL:https://voltdeutschland.org/bw/veranstaltungen/online-meet-greet-2026-1
 -27
END:VEVENT
END:VCALENDAR
