BEGIN:VCALENDAR
VERSION:2.0
PRODID:-//Volt Europa//Events//EN
CALSCALE:GREGORIAN
METHOD:PUBLISH
BEGIN:VEVENT
UID:meet-the-candidate-wahlkreis-weinheim-2026-01-29-1769706000@voltdeutsch
 land.org
DTSTAMP:20260423T195244Z
DTSTART;TZID=Europe/Berlin:20260129T180000
DTEND;TZID=Europe/Berlin:20260129T190000
SUMMARY:Meet the Candidate Wahlkreis Weinheim
DESCRIPTION:Möchtest du dich mit unserem Direktkandidat im Wahlkreis Weinh
 eim\, Kevin Grimmeisen austauschen? Treff dich mit ihm und anderen in locke
 rer Runde und lern uns kennen.
LOCATION:Kaffeehaus Schriesheim Heidelberger Str. 13\, Schriesheim
URL:https://voltdeutschland.org/bw/veranstaltungen/meet-the-candidate-wahlk
 reis-weinheim-2026-01-29
END:VEVENT
END:VCALENDAR
