BEGIN:VCALENDAR
VERSION:2.0
PRODID:-//Volt Europa//Events//EN
CALSCALE:GREGORIAN
METHOD:PUBLISH
BEGIN:VEVENT
UID:meet-the-candidate-wahlkreis-schwetzingen-2026-01-29-1769713200@voltdeu
 tschland.org
DTSTAMP:20260423T195244Z
DTSTART;TZID=Europe/Berlin:20260129T200000
DTEND;TZID=Europe/Berlin:20260129T210000
SUMMARY:Meet the Candidate Wahlkreis Schwetzingen
DESCRIPTION:Möchtest du dich mit unserem Direktkandidat im Wahlkreis Schwe
 tzingen\, Yannick Hild austauschen? Treff dich mit ihm und anderen in locke
 rer Runde und lern uns kennen.
LOCATION:et cetera\, Karlsruher Str. 25 a\, Hockenheim
URL:https://voltdeutschland.org/bw/veranstaltungen/meet-the-candidate-wahlk
 reis-schwetzingen-2026-01-29
END:VEVENT
END:VCALENDAR
