BEGIN:VCALENDAR
VERSION:2.0
PRODID:-//Volt Europa//Events//EN
CALSCALE:GREGORIAN
METHOD:PUBLISH
BEGIN:VEVENT
UID:meet-greet-zollernalbkreissigmaringen-april26-1779804000@voltdeutschlan
 d.org
DTSTAMP:20260422T070221Z
DTSTART;TZID=Europe/Berlin:20260526T160000
DTEND;TZID=Europe/Berlin:20260526T180000
SUMMARY:Meet & Greet Zollernalbkreis/Sigmaringen
DESCRIPTION:Zu viele Entscheidungen werden über unsere Köpfe hinweg getro
 ffen. WIR ändern das – gemeinsam. Du willst nicht nur zuschauen\, sonder
 n mitreden? Dann komm zu unserem Meet & Greet. Keine Bühne. Nur ehrliche G
 espräche über das\, was dich wirklich bewegt – hier vor Ort und in Euro
 pa. 👉 Bring deine Perspektive ein Denn: Demokratie lebt von dir.
LOCATION:wechselnd
URL:https://voltdeutschland.org/bw/veranstaltungen/meet-greet-zollernalbkre
 issigmaringen-april26
END:VEVENT
END:VCALENDAR
