BEGIN:VCALENDAR
VERSION:2.0
PRODID:-//Volt Europa//Events//EN
CALSCALE:GREGORIAN
METHOD:PUBLISH
BEGIN:VEVENT
UID:meet-greet-zollernalbkreissigmaringen-april26-1-1777190400@voltdeutschl
 and.org
DTSTAMP:20260421T101635Z
DTSTART;TZID=Europe/Berlin:20260426T100000
DTEND;TZID=Europe/Berlin:20260426T113000
SUMMARY:Meet & Greet: Frühstück im Zollernalbkreis/Sigmaringen
DESCRIPTION:Mal wieder Lust auf ein gemütliches Frühstück? ☕🥐 Dann 
 komm am  26. April  ins  Time Out  und lern unser kleines aber feines Team 
 von Volt Zollernalb-Sigmaringen kennen. Wir quatschen über Politik\, über
  die Region — und über alles\, was dich gerade beschäftigt. Kinder sind
  herzlich willkommen! 👶💜 Du hast Fragen? Schreib uns einfach — oder
  komm direkt vorbei!
LOCATION:Färberstraße 1\, 72336 Balingen
URL:https://voltdeutschland.org/bw/veranstaltungen/meet-greet-zollernalbkre
 issigmaringen-april26-1
END:VEVENT
END:VCALENDAR
