BEGIN:VCALENDAR
VERSION:2.0
PRODID:-//Volt Europa//Events//EN
CALSCALE:GREGORIAN
METHOD:PUBLISH
BEGIN:VEVENT
UID:meet-greet-stuttgart-4-1779210000@voltdeutschland.org
DTSTAMP:20260423T035656Z
DTSTART;TZID=Europe/Berlin:20260519T190000
DTEND;TZID=Europe/Berlin:20260519T213000
SUMMARY:Meet & Greet Stuttgart
DESCRIPTION:Du willst dich für ein starkes Europa\, eine neue Politik und 
 eine positive Zukunft einsetzen? Dann bist du am Dienstag den 19.05 um 19 U
 hr im alten Feuerwehrhaus genau an der richtigen Adresse. Jede*r ist 💜-l
 ich eingeladen! Kommt zahlreich vorbei! 🇪🇺🚀💜 (barrierefreier Zu
 gang\, kostenlose Veranstaltung\, kein Konsumzwang)
LOCATION:Altes Feuerwehrhaus Süd\, 1. OG\, Möhringer Str. 56\, 70199 Stut
 tgart
URL:https://voltdeutschland.org/bw/veranstaltungen/meet-greet-stuttgart-4
END:VEVENT
END:VCALENDAR
