BEGIN:VCALENDAR
VERSION:2.0
PRODID:-//Volt Europa//Events//EN
CALSCALE:GREGORIAN
METHOD:PUBLISH
BEGIN:VEVENT
UID:meet-greet-stuttgart-3-1-1778000400@voltdeutschland.org
DTSTAMP:20260423T040358Z
DTSTART;TZID=Europe/Berlin:20260505T190000
DTEND;TZID=Europe/Berlin:20260505T213000
SUMMARY:Meet & Greet Stuttgart
DESCRIPTION:Du willst dich fΓΌr ein starkes Europa\, eine neue Politik und 
 eine positive Zukunft einsetzen? Dann bist du am Dienstag den 05.05 um 19 U
 hr beim Stuttgarter Meet&Greet genau an der richtigen Adresse. Jede*r ist π
 -lich eingeladen! Kommt zahlreich vorbei! πͺπΊππ (barrierefrei
 er Zugang\, kostenlose Veranstaltung\, kein Konsumzwang)
LOCATION:To be determined
URL:https://voltdeutschland.org/bw/veranstaltungen/meet-greet-stuttgart-3-1
END:VEVENT
END:VCALENDAR
