BEGIN:VCALENDAR
VERSION:2.0
PRODID:-//Volt Europa//Events//EN
CALSCALE:GREGORIAN
METHOD:PUBLISH
BEGIN:VEVENT
UID:meet-greet-reutlingen-20250214-1739633400@voltdeutschland.org
DTSTAMP:20260422T131216Z
DTSTART;TZID=Europe/Berlin:20250215T163000
DTEND;TZID=Europe/Berlin:20250215T190000
SUMMARY:Meet & Greet Reutlingen
DESCRIPTION:Du möchtest so kurz vor der Wahl erfahren\, welche Ziele wir h
 aben oder wie du dich bei Volt einbringen kannst? Komm vorbei und lern uns 
 kennen! Wir freuen uns auf dich! Wir treffen uns ab 16:30 Uhr im Café „A
 lte Bank“ am Reutlinger Marktplatz!
LOCATION:Café „Alte Bank“ am Reutlinger Marktplatz
URL:https://voltdeutschland.org/bw/veranstaltungen/meet-greet-reutlingen-20
 250214
END:VEVENT
END:VCALENDAR
